View In:
ArcGIS JavaScript
ArcGIS Online Map Viewer
ArcGIS Earth
Service Description: This layer is based on the Environmental Benefits Index (EBI) data layer developed by the Minnesota Board of Water and Soil Resources (BWSR) and the University of Minnesota. More information about the EBI is available from the BWSR web site here: www.bwsr.state.mn.us/ecological_ranking The data layer ebi300pca11 was created by selecting the five percent of each major watershed (HUC8) in Minnesota with the highest EBI scores. A conditional statement was then used to import land cover data from the 2011 National Land Cover Database (NLCD) into the highlighted areas. The NLCD was reclassed from 16 to seven land cover classes according to the following:
Reclassed NLCD | NLCD
Water 11
Urban 21, 22, 23, 24
Barren 31
Forest 41, 42, 43, 52
GrassHay 71, 81
Crops 82
Wetlands 90, 95
Name: us_mn_state_pca/env_ebi_top_5
Description: This layer is based on the Environmental Benefits Index (EBI) data layer developed by the Minnesota Board of Water and Soil Resources (BWSR) and the University of Minnesota. More information about the EBI is available from the BWSR web site here: www.bwsr.state.mn.us/ecological_ranking The data layer ebi300pca11 was created by selecting the five percent of each major watershed (HUC8) in Minnesota with the highest EBI scores. A conditional statement was then used to import land cover data from the 2011 National Land Cover Database (NLCD) into the highlighted areas. The NLCD was reclassed from 16 to seven land cover classes according to the following:
Reclassed NLCD | NLCD
Water 11
Urban 21, 22, 23, 24
Barren 31
Forest 41, 42, 43, 52
GrassHay 71, 81
Crops 82
Wetlands 90, 95
Single Fused Map Cache: false
Extent:
XMin: 189825.0
YMin: 4816605.0
XMax: 643905.0
YMax: 5471505.0
Spatial Reference: 26915
(26915)
LatestVCSWkid(0)
Initial Extent:
XMin: 189825.0
YMin: 4816605.0
XMax: 643905.0
YMax: 5471505.0
Spatial Reference: 26915
(26915)
LatestVCSWkid(0)
Full Extent:
XMin: 189825.0
YMin: 4816605.0
XMax: 643905.0
YMax: 5471505.0
Spatial Reference: 26915
(26915)
LatestVCSWkid(0)
Pixel Size X: 30.0
Pixel Size Y: 30.0
Band Count: 1
Pixel Type: U8
RasterFunction Infos: {"rasterFunctionInfos": [{
"name": "None",
"description": "",
"help": ""
}]}
Mensuration Capabilities: Basic
Inspection Capabilities:
Has Histograms: true
Has Colormap: false
Has Multi Dimensions : false
Rendering Rule:
Min Scale: 0
Max Scale: 0
Copyright Text:
Service Data Type: esriImageServiceDataTypeGeneric
Min Values: 1
Max Values: 7
Mean Values: 4.808543536278581
Standard Deviation Values: 1.3164950343169148
Object ID Field:
Fields:
None
Default Mosaic Method: Center
Allowed Mosaic Methods:
SortField:
SortValue: null
Mosaic Operator: First
Default Compression Quality: 75
Default Resampling Method: Bilinear
Max Record Count: 0
Max Image Height: 4100
Max Image Width: 15000
Max Download Image Count: null
Max Mosaic Image Count: null
Allow Raster Function: true
Allow Copy: true
Allow Analysis: true
Allow Compute TiePoints: false
Supports Statistics: false
Supports Advanced Queries: false
Use StandardizedQueries: true
Raster Type Infos:
Name: Raster Dataset
Description: Supports all ArcGIS Raster Datasets
Help:
Has Raster Attribute Table: true
Edit Fields Info: null
Ownership Based AccessControl For Rasters: null
Child Resources:
Info
Raster Attribute Table
Histograms
Statistics
Key Properties
Legend
Raster Function Infos
Supported Operations:
Export Image
Identify
Measure
Compute Histograms
Compute Statistics Histograms
Get Samples
Compute Class Statistics
Query Boundary
Compute Pixel Location
Compute Angles
Validate
Project