{ "currentVersion": 11.5, "serviceDescription": "

This layer is based on the Environmental Benefits Index (EBI) data layer developed by the Minnesota Board of Water and Soil Resources (BWSR) and the University of Minnesota. More information about the EBI is available from the BWSR web site here: www.bwsr.state.mn.us/ecological_ranking The data layer ebi300pca11 was created by selecting the five percent of each major watershed (HUC8) in Minnesota with the highest EBI scores. A conditional statement was then used to import land cover data from the 2011 National Land Cover Database (NLCD) into the highlighted areas. The NLCD was reclassed from 16 to seven land cover classes according to the following: <\/SPAN><\/P>
Reclassed NLCD | NLCD<\/SPAN><\/P>
Water 11<\/SPAN><\/P>
Urban 21, 22, 23, 24<\/SPAN><\/P>
Barren 31<\/SPAN><\/P>
Forest 41, 42, 43, 52<\/SPAN><\/P>
GrassHay 71, 81<\/SPAN><\/P>
Crops 82<\/SPAN><\/P>
Wetlands 90, 95<\/SPAN><\/P>
<\/DIV><\/DIV><\/DIV>", "serviceItemId": "056e9dacd05f49368a87f7e8787b0463", "name": "us_mn_state_pca/env_ebi_top_5", "description": "

This layer is based on the Environmental Benefits Index (EBI) data layer developed by the Minnesota Board of Water and Soil Resources (BWSR) and the University of Minnesota. More information about the EBI is available from the BWSR web site here: www.bwsr.state.mn.us/ecological_ranking The data layer ebi300pca11 was created by selecting the five percent of each major watershed (HUC8) in Minnesota with the highest EBI scores. A conditional statement was then used to import land cover data from the 2011 National Land Cover Database (NLCD) into the highlighted areas. The NLCD was reclassed from 16 to seven land cover classes according to the following: <\/SPAN><\/P>
Reclassed NLCD | NLCD<\/SPAN><\/P>
Water 11<\/SPAN><\/P>
Urban 21, 22, 23, 24<\/SPAN><\/P>
Barren 31<\/SPAN><\/P>
Forest 41, 42, 43, 52<\/SPAN><\/P>
GrassHay 71, 81<\/SPAN><\/P>
Crops 82<\/SPAN><\/P>
Wetlands 90, 95<\/SPAN><\/P>
<\/DIV><\/DIV><\/DIV>", "extent": { "xmin": 189825, "ymin": 4816605, "xmax": 643905, "ymax": 5471505, "spatialReference": { "wkid": 26915, "latestWkid": 26915 } }, "initialExtent": { "xmin": 189825, "ymin": 4816605, "xmax": 643905, "ymax": 5471505, "spatialReference": { "wkid": 26915, "latestWkid": 26915 } }, "fullExtent": { "xmin": 189825, "ymin": 4816605, "xmax": 643905, "ymax": 5471505, "spatialReference": { "wkid": 26915, "latestWkid": 26915 } }, "sortableFields": "", "bandCount": 1, "pixelType": "U8", "minValues": [ 1 ], "maxValues": [ 7 ], "meanValues": [ 4.808543536278581 ], "stdvValues": [ 1.3164950343169148 ], "serviceProperties": "Center<\/MosaicMethod>First<\/MosaicOperator>true<\/SortAscending><\/LockImageID><\/TileOrderField>0<\/TileOrderBase>0.000000<\/AvgImageSpacingX>0.000000<\/AvgImageSpacingY>0.0<\/ViewPointX>0.0<\/ViewPointY>0.0<\/ViewPointDefShiftX>0.0<\/ViewPointDefShiftY>None<\/CompressionMethod>75<\/CompressionQuality>0.010000<\/CompressionTolerance>Bilinear<\/SamplingMethod><\/ImageServiceProperties><\/ImageServer>", "allowedFields": "", "hasMultidimensions": false, "pixelSizeX": 30, "pixelSizeY": 30, "meanPixelSize": 30, "datasetFormat": "SDR", "uncompressedSize": 330418880, "blockWidth": 128, "blockHeight": 128, "compressionType": "LZ77", "bandNames": [ "Band_1" ], "allowCopy": true, "allowAnalysis": true, "itemAccess": false, "inspectionCapabilities": "", "minPixelSize": 0, "maxPixelSize": 0, "copyrightText": "", "serviceDataType": "esriImageServiceDataTypeGeneric", "serviceSourceType": "esriImageServiceSourceTypeDataset", "objectIdField": "", "fields": [], "capabilities": "Image,Metadata,Mensuration", "defaultMosaicMethod": "Center", "allowedMosaicMethods": "", "sortField": "", "sortValue": null, "sortAscending": true, "mosaicOperator": "First", "defaultCompressionQuality": 75, "defaultResamplingMethod": "Bilinear", "maxImageHeight": 4100, "maxImageWidth": 15000, "maxRecordCount": 0, "allowRasterFunction": true, "rasterFunctionInfos": [ { "name": "None", "description": "", "help": "" } ], "rasterTypeInfos": [ { "name": "Raster Dataset", "description": "Supports all ArcGIS Raster Datasets", "help": "" } ], "mensurationCapabilities": "Basic", "hasHistograms": true, "hasColormap": false, "hasRasterAttributeTable": true, "minScale": 0, "maxScale": 0, "exportTilesAllowed": false, "supportsStatistics": false, "supportsAdvancedQueries": false, "editFieldsInfo": null, "ownershipBasedAccessControlForRasters": null, "allowComputeTiePoints": false, "useStandardizedQueries": true, "advancedQueryCapabilities": { "useStandardizedQueries": true, "supportsStatistics": false, "supportsOrderBy": false, "supportsDistinct": false, "supportsPagination": false }, "spatialReference": { "wkid": 26915, "latestWkid": 26915 } }