View In:
ArcGIS JavaScript
ArcGIS Online Map Viewer
ArcGIS Earth
Service Description: This layer shows the histosol percentage at 10 meter resolution for the continental United States as derived from the current gSSURGO/SSURGO databases from NRCS. Values range from 10 to 100 percent. Histosols (minus folists for this dataset) have a high content of organic matter and no permafrost. Most are saturated year round, but a few are freely drained. Histosols are commonly called bogs, moors, peats, or mucks.
Name: us_mn_state_bwsr/geos_usfs_histosols
Description: This layer shows the histosol percentage at 10 meter resolution for the continental United States as derived from the current gSSURGO/SSURGO databases from NRCS. Values range from 10 to 100 percent. Histosols (minus folists for this dataset) have a high content of organic matter and no permafrost. Most are saturated year round, but a few are freely drained. Histosols are commonly called bogs, moors, peats, or mucks.
Single Fused Map Cache: false
Extent:
XMin: 155760.3128050096
YMin: 4800702.559777649
XMax: 794520.3128050095
YMax: 5479212.559777649
Spatial Reference: 26915
(26915)
LatestVCSWkid(0)
Initial Extent:
XMin: 155760.3128050096
YMin: 4800702.559777649
XMax: 794520.3128050095
YMax: 5479212.559777649
Spatial Reference: 26915
(26915)
LatestVCSWkid(0)
Full Extent:
XMin: 155760.3128050096
YMin: 4800702.559777649
XMax: 794520.3128050095
YMax: 5479212.559777649
Spatial Reference: 26915
(26915)
LatestVCSWkid(0)
Pixel Size X: 10.0
Pixel Size Y: 10.0
Band Count: 1
Pixel Type: F32
RasterFunction Infos: {"rasterFunctionInfos": [{
"name": "None",
"description": "",
"help": ""
}]}
Mensuration Capabilities: Basic
Inspection Capabilities:
Has Histograms: true
Has Colormap: false
Has Multi Dimensions : false
Rendering Rule:
Min Scale: 0
Max Scale: 0
Copyright Text:
Service Data Type: esriImageServiceDataTypeGeneric
Min Values: 10
Max Values: 100
Mean Values: 81.74011651815042
Standard Deviation Values: 21.042291911244057
Object ID Field:
Fields:
None
Default Mosaic Method: Center
Allowed Mosaic Methods:
SortField:
SortValue: null
Mosaic Operator: First
Default Compression Quality: 75
Default Resampling Method: Bilinear
Max Record Count: 0
Max Image Height: 4100
Max Image Width: 15000
Max Download Image Count: null
Max Mosaic Image Count: null
Allow Raster Function: true
Allow Copy: true
Allow Analysis: true
Allow Compute TiePoints: false
Supports Statistics: false
Supports Advanced Queries: false
Use StandardizedQueries: true
Raster Type Infos:
Name: Raster Dataset
Description: Supports all ArcGIS Raster Datasets
Help:
Has Raster Attribute Table: false
Edit Fields Info: null
Ownership Based AccessControl For Rasters: null
Child Resources:
Info
Histograms
Statistics
Key Properties
Legend
Raster Function Infos
Supported Operations:
Export Image
Identify
Measure
Compute Histograms
Compute Statistics Histograms
Get Samples
Compute Class Statistics
Query Boundary
Compute Pixel Location
Compute Angles
Validate
Project