{
 "currentVersion": 11.5,
 "serviceDescription": "This layer shows the histosol percentage at 10 meter resolution for the continental United States as derived from the current gSSURGO/SSURGO databases from NRCS. Values range from 10 to 100 percent. Histosols (minus folists for this dataset) have a high content of organic matter and no permafrost. Most are saturated year round, but a few are freely drained. Histosols are commonly called bogs, moors, peats, or mucks.",
 "serviceItemId": "8e8e02c2b34d4bff8d88fd8c1d8d8c87",
 "name": "us_mn_state_bwsr/geos_usfs_histosols",
 "description": "This layer shows the histosol percentage at 10 meter resolution for the continental United States as derived from the current gSSURGO/SSURGO databases from NRCS. Values range from 10 to 100 percent. Histosols (minus folists for this dataset) have a high content of organic matter and no permafrost. Most are saturated year round, but a few are freely drained. Histosols are commonly called bogs, moors, peats, or mucks.",
 "extent": {
  "xmin": 155760.3128050096,
  "ymin": 4800702.559777649,
  "xmax": 794520.3128050095,
  "ymax": 5479212.559777649,
  "spatialReference": {
   "wkid": 26915,
   "latestWkid": 26915
  }
 },
 "initialExtent": {
  "xmin": 155760.3128050096,
  "ymin": 4800702.559777649,
  "xmax": 794520.3128050095,
  "ymax": 5479212.559777649,
  "spatialReference": {
   "wkid": 26915,
   "latestWkid": 26915
  }
 },
 "fullExtent": {
  "xmin": 155760.3128050096,
  "ymin": 4800702.559777649,
  "xmax": 794520.3128050095,
  "ymax": 5479212.559777649,
  "spatialReference": {
   "wkid": 26915,
   "latestWkid": 26915
  }
 },
 "sortableFields": "",
 "bandCount": 1,
 "pixelType": "F32",
 "minValues": [
  10
 ],
 "maxValues": [
  100
 ],
 "meanValues": [
  81.74011651815042
 ],
 "stdvValues": [
  21.042291911244057
 ],
 "serviceProperties": "Center<\/MosaicMethod>First<\/MosaicOperator>true<\/SortAscending><\/LockImageID><\/TileOrderField>0<\/TileOrderBase>0.000000<\/AvgImageSpacingX>0.000000<\/AvgImageSpacingY>0.0<\/ViewPointX>0.0<\/ViewPointY>0.0<\/ViewPointDefShiftX>0.0<\/ViewPointDefShiftY>None<\/CompressionMethod>75<\/CompressionQuality>0.010000<\/CompressionTolerance>Bilinear<\/SamplingMethod><\/ImageServiceProperties><\/ImageServer>",
 "allowedFields": "",
 "hasMultidimensions": false,
 "pixelSizeX": 10,
 "pixelSizeY": 10,
 "meanPixelSize": 10,
 "datasetFormat": "SDR",
 "uncompressedSize": 17336201904,
 "blockWidth": 128,
 "blockHeight": 128,
 "compressionType": "LZ77",
 "bandNames": [
  "Band_1"
 ],
 "allowCopy": true,
 "allowAnalysis": true,
 "itemAccess": false,
 "inspectionCapabilities": "",
 "minPixelSize": 0,
 "maxPixelSize": 0,
 "copyrightText": "",
 "serviceDataType": "esriImageServiceDataTypeGeneric",
 "serviceSourceType": "esriImageServiceSourceTypeDataset",
 "objectIdField": "",
 "fields": [],
 "capabilities": "Image,Metadata,Mensuration",
 "defaultMosaicMethod": "Center",
 "allowedMosaicMethods": "",
 "sortField": "",
 "sortValue": null,
 "sortAscending": true,
 "mosaicOperator": "First",
 "defaultCompressionQuality": 75,
 "defaultResamplingMethod": "Bilinear",
 "maxImageHeight": 4100,
 "maxImageWidth": 15000,
 "maxRecordCount": 0,
 "allowRasterFunction": true,
 "rasterFunctionInfos": [
  {
   "name": "None",
   "description": "",
   "help": ""
  }
 ],
 "rasterTypeInfos": [
  {
   "name": "Raster Dataset",
   "description": "Supports all ArcGIS Raster Datasets",
   "help": ""
  }
 ],
 "mensurationCapabilities": "Basic",
 "hasHistograms": true,
 "hasColormap": false,
 "hasRasterAttributeTable": false,
 "minScale": 0,
 "maxScale": 0,
 "exportTilesAllowed": false,
 "supportsStatistics": false,
 "supportsAdvancedQueries": false,
 "editFieldsInfo": null,
 "ownershipBasedAccessControlForRasters": null,
 "allowComputeTiePoints": false,
 "useStandardizedQueries": true,
 "advancedQueryCapabilities": {
  "useStandardizedQueries": true,
  "supportsStatistics": false,
  "supportsOrderBy": false,
  "supportsDistinct": false,
  "supportsPagination": false
 },
 "spatialReference": {
  "wkid": 26915,
  "latestWkid": 26915
 }
}
