View In:
ArcGIS JavaScript
ArcGIS Online Map Viewer
ArcGIS Earth
Service Description: MnTopo_Work_Units/Red_River_Work_Unit_1
Name: MnTopo_Work_Units/Red_River_Work_Unit_1
Description:
Single Fused Map Cache: false
Extent:
XMin: 197000.0
YMin: 5051000.0
XMax: 275000.0
YMax: 5279000.0
Spatial Reference: 102384
(6344)
VCSWkid(5703)
LatestVCSWkid(5703)
Initial Extent:
XMin: 197000.0
YMin: 5051000.0
XMax: 275000.0
YMax: 5279000.0
Spatial Reference: 102384
(6344)
VCSWkid(5703)
LatestVCSWkid(5703)
Full Extent:
XMin: 197000.0
YMin: 5051000.0
XMax: 275000.0
YMax: 5279000.0
Spatial Reference: 102384
(6344)
VCSWkid(5703)
LatestVCSWkid(5703)
Pixel Size X: 0.5
Pixel Size Y: 0.5
Band Count: 1
Pixel Type: F32
RasterFunction Infos: {"rasterFunctionInfos": [{
"name": "None",
"description": "",
"help": ""
}]}
Mensuration Capabilities: Basic
Inspection Capabilities:
Has Histograms: false
Has Colormap: false
Has Multi Dimensions : false
Rendering Rule:
Min Scale: 0
Max Scale: 0
Copyright Text:
Service Data Type: esriImageServiceDataTypeElevation
Min Values: 236.23899841309
Max Values: 492.62600708008
Mean Values: 318.64275365357
Standard Deviation Values: 41.394571516452
Object ID Field:
Fields:
None
Default Mosaic Method: Center
Allowed Mosaic Methods:
SortField:
SortValue: null
Mosaic Operator: First
Default Compression Quality: 75
Default Resampling Method: Bilinear
Max Record Count: null
Max Image Height: 4100
Max Image Width: 15000
Max Download Image Count: null
Max Mosaic Image Count: null
Allow Raster Function: true
Allow Copy: true
Allow Analysis: true
Allow Compute TiePoints: false
Supports Statistics: false
Supports Advanced Queries: false
Use StandardizedQueries: true
Raster Type Infos:
Name: Raster Dataset
Description: Supports all ArcGIS Raster Datasets
Help:
Has Raster Attribute Table: false
Edit Fields Info: null
Ownership Based AccessControl For Rasters: null
Child Resources:
Info
Statistics
Key Properties
Legend
Raster Function Infos
Supported Operations:
Export Image
Identify
Measure
Compute Histograms
Compute Statistics Histograms
Get Samples
Compute Class Statistics
Query Boundary
Compute Pixel Location
Compute Angles
Validate
Project
Calculate Volume