View In:
ArcGIS JavaScript
ArcGIS Online Map Viewer
ArcGIS Earth
Service Description: us_mn_state_pca/geos_gw_recharge_1996_2010_mean
Name: us_mn_state_pca/geos_gw_recharge_1996_2010_mean
Description:
Single Fused Map Cache: false
Extent:
XMin: 189775.0
YMin: 4816435.0
XMax: 761775.0
YMax: 5472435.0
Spatial Reference: 0
(0)
LatestVCSWkid(0)
Initial Extent:
XMin: 189775.0
YMin: 4816435.0
XMax: 761775.0
YMax: 5472435.0
Spatial Reference: 0
(0)
LatestVCSWkid(0)
Full Extent:
XMin: 189775.0
YMin: 4816435.0
XMax: 761775.0
YMax: 5472435.0
Spatial Reference: 0
(0)
LatestVCSWkid(0)
Pixel Size X: 1000.0
Pixel Size Y: 1000.0
Band Count: 1
Pixel Type: F32
RasterFunction Infos: {"rasterFunctionInfos": [{
"name": "None",
"description": "",
"help": ""
}]}
Mensuration Capabilities: Basic
Inspection Capabilities:
Has Histograms: true
Has Colormap: false
Has Multi Dimensions : false
Rendering Rule:
Min Scale: 0
Max Scale: 0
Copyright Text:
Service Data Type: esriImageServiceDataTypeGeneric
Min Values: 0.025299999862909317
Max Values: 17.803600311279297
Mean Values: 4.929885258409081
Standard Deviation Values: 2.182698927557216
Object ID Field:
Fields:
None
Default Mosaic Method: Center
Allowed Mosaic Methods:
SortField:
SortValue: null
Mosaic Operator: First
Default Compression Quality: 75
Default Resampling Method: Bilinear
Max Record Count: 0
Max Image Height: 4100
Max Image Width: 15000
Max Download Image Count: null
Max Mosaic Image Count: null
Allow Raster Function: true
Allow Copy: true
Allow Analysis: true
Allow Compute TiePoints: false
Supports Statistics: false
Supports Advanced Queries: false
Use StandardizedQueries: true
Raster Type Infos:
Name: Raster Dataset
Description: Supports all ArcGIS Raster Datasets
Help:
Has Raster Attribute Table: false
Edit Fields Info: null
Ownership Based AccessControl For Rasters: null
Child Resources:
Info
Histograms
Statistics
Key Properties
Legend
Raster Function Infos
Supported Operations:
Export Image
Identify
Measure
Compute Histograms
Compute Statistics Histograms
Get Samples
Compute Class Statistics
Query Boundary
Compute Pixel Location
Compute Angles
Validate
Project