View In:
ArcGIS JavaScript
ArcGIS Online Map Viewer
ArcGIS Earth
Service Description: us_mn_state_mda/agri_cropland_data_layer_2022
Name: us_mn_state_mda/agri_cropland_data_layer_2022
Description:
Single Fused Map Cache: false
Extent:
XMin: 189765.64668312488
YMin: 4816304.0409859065
XMax: 761655.6466831248
YMax: 5472434.0409859065
Spatial Reference: 26915
(26915)
LatestVCSWkid(0)
Initial Extent:
XMin: 189765.64668312488
YMin: 4816304.0409859065
XMax: 761655.6466831248
YMax: 5472434.0409859065
Spatial Reference: 26915
(26915)
LatestVCSWkid(0)
Full Extent:
XMin: 189765.64668312488
YMin: 4816304.0409859065
XMax: 761655.6466831248
YMax: 5472434.0409859065
Spatial Reference: 26915
(26915)
LatestVCSWkid(0)
Pixel Size X: 30.0
Pixel Size Y: 30.0
Band Count: 3
Pixel Type: U8
RasterFunction Infos: {"rasterFunctionInfos": [{
"name": "None",
"description": "",
"help": ""
}]}
Mensuration Capabilities: Basic
Inspection Capabilities:
Has Histograms: false
Has Colormap: false
Has Multi Dimensions : false
Rendering Rule:
Min Scale: 0
Max Scale: 0
Copyright Text:
Service Data Type: esriImageServiceDataTypeThematic
Min Values: N/A
Max Values: N/A
Mean Values: N/A
Standard Deviation Values: N/A
Object ID Field:
Fields:
None
Default Mosaic Method: Center
Allowed Mosaic Methods:
SortField:
SortValue: null
Mosaic Operator: First
Default Compression Quality: 75
Default Resampling Method: Bilinear
Max Record Count: 0
Max Image Height: 4100
Max Image Width: 15000
Max Download Image Count: null
Max Mosaic Image Count: null
Allow Raster Function: true
Allow Copy: true
Allow Analysis: true
Allow Compute TiePoints: false
Supports Statistics: false
Supports Advanced Queries: false
Use StandardizedQueries: true
Raster Type Infos:
Name: Raster Dataset
Description: Supports all ArcGIS Raster Datasets
Help:
Has Raster Attribute Table: false
Edit Fields Info: null
Ownership Based AccessControl For Rasters: null
Child Resources:
Info
Statistics
Key Properties
Legend
Raster Function Infos
Supported Operations:
Export Image
Identify
Measure
Compute Histograms
Compute Statistics Histograms
Get Samples
Compute Class Statistics
Query Boundary
Compute Pixel Location
Compute Angles
Validate
Project