View In:
ArcGIS JavaScript
ArcGIS Online Map Viewer
ArcGIS Earth
Service Description: us_mn_state_dot/society_hist_ped_lcp
Name: us_mn_state_dot/society_hist_ped_lcp
Description:
Single Fused Map Cache: false
Extent:
XMin: 165633.0
YMin: 4792138.0
XMax: 785823.0
YMax: 5496568.0
Spatial Reference: 26915
(26915)
LatestVCSWkid(0)
Initial Extent:
XMin: 165633.0
YMin: 4792138.0
XMax: 785823.0
YMax: 5496568.0
Spatial Reference: 26915
(26915)
LatestVCSWkid(0)
Full Extent:
XMin: 165633.0
YMin: 4792138.0
XMax: 785823.0
YMax: 5496568.0
Spatial Reference: 26915
(26915)
LatestVCSWkid(0)
Pixel Size X: 90.0
Pixel Size Y: 90.0
Band Count: 4
Pixel Type: U8
RasterFunction Infos: {"rasterFunctionInfos": [{
"name": "None",
"description": "",
"help": ""
}]}
Mensuration Capabilities: Basic
Inspection Capabilities:
Has Histograms: true
Has Colormap: false
Has Multi Dimensions : false
Rendering Rule:
Min Scale: 0
Max Scale: 0
Copyright Text:
Service Data Type: esriImageServiceDataTypeGeneric
Min Values: 0, 0, 0, 0
Max Values: 255, 255, 0, 255
Mean Values: 12.339589839093499, 18.690785983061325, 0, 23.992043270954237
Standard Deviation Values: 42.81488525339221, 58.52422297277826, 0, 74.4469811109639
Object ID Field:
Fields:
None
Default Mosaic Method: Center
Allowed Mosaic Methods:
SortField:
SortValue: null
Mosaic Operator: First
Default Compression Quality: 75
Default Resampling Method: Bilinear
Max Record Count: 0
Max Image Height: 4100
Max Image Width: 15000
Max Download Image Count: null
Max Mosaic Image Count: null
Allow Raster Function: true
Allow Copy: true
Allow Analysis: true
Allow Compute TiePoints: false
Supports Statistics: false
Supports Advanced Queries: false
Use StandardizedQueries: true
Raster Type Infos:
Name: Raster Dataset
Description: Supports all ArcGIS Raster Datasets
Help:
Has Raster Attribute Table: false
Edit Fields Info: null
Ownership Based AccessControl For Rasters: null
Child Resources:
Info
Histograms
Statistics
Key Properties
Legend
Raster Function Infos
Supported Operations:
Export Image
Identify
Measure
Compute Histograms
Compute Statistics Histograms
Get Samples
Compute Class Statistics
Query Boundary
Compute Pixel Location
Compute Angles
Validate
Project