View In:
ArcGIS JavaScript
ArcGIS Online Map Viewer
ArcGIS Earth
Service Description: us_mn_state_dnr/water_lake_bathy_shaded_relief
Name: us_mn_state_dnr/water_lake_bathy_shaded_relief
Description:
Single Fused Map Cache: false
Extent:
XMin: 229327.5
YMin: 4817357.5
XMax: 721442.5
YMax: 5403522.5
Spatial Reference: 26915
(26915)
LatestVCSWkid(0)
Initial Extent:
XMin: 229327.5
YMin: 4817357.5
XMax: 721442.5
YMax: 5403522.5
Spatial Reference: 26915
(26915)
LatestVCSWkid(0)
Full Extent:
XMin: 229327.5
YMin: 4817357.5
XMax: 721442.5
YMax: 5403522.5
Spatial Reference: 26915
(26915)
LatestVCSWkid(0)
Pixel Size X: 5.0
Pixel Size Y: 5.0
Band Count: 3
Pixel Type: U8
RasterFunction Infos: {"rasterFunctionInfos": [{
"name": "None",
"description": "",
"help": ""
}]}
Mensuration Capabilities: Basic
Inspection Capabilities:
Has Histograms: true
Has Colormap: false
Has Multi Dimensions : false
Rendering Rule:
Min Scale: 0
Max Scale: 0
Copyright Text:
Service Data Type: esriImageServiceDataTypeRGB
Min Values: 0, 0, 0
Max Values: 255, 255, 255
Mean Values: 178.52004864270924, 201.2158218656673, 212.15182803005916
Standard Deviation Values: 96.88195690576995, 78.3956720075861, 55.95063146140271
Object ID Field:
Fields:
None
Default Mosaic Method: Center
Allowed Mosaic Methods:
SortField:
SortValue: null
Mosaic Operator: First
Default Compression Quality: 75
Default Resampling Method: Bilinear
Max Record Count: 0
Max Image Height: 4100
Max Image Width: 15000
Max Download Image Count: null
Max Mosaic Image Count: null
Allow Raster Function: true
Allow Copy: true
Allow Analysis: true
Allow Compute TiePoints: false
Supports Statistics: false
Supports Advanced Queries: false
Use StandardizedQueries: true
Raster Type Infos:
Name: Raster Dataset
Description: Supports all ArcGIS Raster Datasets
Help:
Has Raster Attribute Table: false
Edit Fields Info: null
Ownership Based AccessControl For Rasters: null
Child Resources:
Info
Histograms
Statistics
Key Properties
Legend
Raster Function Infos
Supported Operations:
Export Image
Identify
Measure
Compute Histograms
Compute Statistics Histograms
Get Samples
Compute Class Statistics
Query Boundary
Compute Pixel Location
Compute Angles
Validate
Project