View In:
ArcGIS JavaScript
ArcGIS Online Map Viewer
ArcGIS Earth
Service Description: us_mn_state_dnr/geos_mrcca_soil_erosion_suscept
Name: us_mn_state_dnr/geos_mrcca_soil_erosion_suscept
Description:
Single Fused Map Cache: false
Extent:
XMin: 458745.0211884477
YMin: 4944737.747271214
XMax: 521475.0211884477
YMax: 5010967.747271214
Spatial Reference: 26915
(26915)
LatestVCSWkid(0)
Initial Extent:
XMin: 458745.0211884477
YMin: 4944737.747271214
XMax: 521475.0211884477
YMax: 5010967.747271214
Spatial Reference: 26915
(26915)
LatestVCSWkid(0)
Full Extent:
XMin: 458745.0211884477
YMin: 4944737.747271214
XMax: 521475.0211884477
YMax: 5010967.747271214
Spatial Reference: 26915
(26915)
LatestVCSWkid(0)
Pixel Size X: 10.0
Pixel Size Y: 10.0
Band Count: 1
Pixel Type: F32
RasterFunction Infos: {"rasterFunctionInfos": [{
"name": "None",
"description": "",
"help": ""
}]}
Mensuration Capabilities: Basic
Inspection Capabilities:
Has Histograms: true
Has Colormap: false
Has Multi Dimensions : false
Rendering Rule:
Min Scale: 0
Max Scale: 0
Copyright Text:
Service Data Type: esriImageServiceDataTypeGeneric
Min Values: 0.019999999552965164
Max Values: 1.9600000381469727
Mean Values: 0.2929530920617354
Standard Deviation Values: 0.22603091533929934
Object ID Field:
Fields:
None
Default Mosaic Method: Center
Allowed Mosaic Methods:
SortField:
SortValue: null
Mosaic Operator: First
Default Compression Quality: 75
Default Resampling Method: Bilinear
Max Record Count: 0
Max Image Height: 4100
Max Image Width: 15000
Max Download Image Count: null
Max Mosaic Image Count: null
Allow Raster Function: true
Allow Copy: true
Allow Analysis: true
Allow Compute TiePoints: false
Supports Statistics: false
Supports Advanced Queries: false
Use StandardizedQueries: true
Raster Type Infos:
Name: Raster Dataset
Description: Supports all ArcGIS Raster Datasets
Help:
Has Raster Attribute Table: false
Edit Fields Info: null
Ownership Based AccessControl For Rasters: null
Child Resources:
Info
Histograms
Statistics
Key Properties
Legend
Raster Function Infos
Supported Operations:
Export Image
Identify
Measure
Compute Histograms
Compute Statistics Histograms
Get Samples
Compute Class Statistics
Query Boundary
Compute Pixel Location
Compute Angles
Validate
Project