{ "currentVersion": 11.5, "serviceDescription": "

This data is a seamless representation of Lidar derived Digital Elevation Model (DEM) for the state of Minnesota. The data was collected between 2021 and 2023 at Lidar Acquisition Block (LABs) levels or work units within some LABs. Lidar data was collected at work units level where they exist. Please see "Areas Covered" section of https://www.mngeo.state.mn.us/chouse/elevation/lidar_gen2.html for additonal information on LABs and work units.<\/p>
Data collection was guided by the Minnesota Lidar Plan, a collaborative effort led by the Minnesota Geospatial Advisory Council\u2019s 3D Geomatics Committee and the Minnesota Geospatial Information Office (MnGeo), with support from federal partners such as USGS and FEMA. The plan outlines a comprehensive strategy to acquire new, high-resolution lidar data across the state to replace outdated datasets collected over a decade ago. The plan was driven by the need for more accurate elevation data to support a wide range of applications, including hydrologic modeling, infrastructure planning, forest resource assessment, and environmental monitoring. Minnesota\u2019s lidar data collected between 2008 and 2012 (classified as QL3), no longer meets modern standards and fails to reflect significant landscape changes due to natural events and human development. The new data meets or exceeds USGS Quality Level 1 (QL1) standards, offering higher point density and improved accuracy.<\/p>
The seamless 0.5m Lidar DEM is made up of data only final vertical accuracy (FVA) checked Lidar data and organized by standards developed and accepted by Minnesota"s 3D Geomatics Committee. The DEMs received from contractors were blended to remove overlaps that occurred between LABs and in some cases within LABs and reaggregated using GDAL tools and ArcGIS Pro.<\/p>
The creation of this seamless data was led by SMEs from Minnesota"s Department of Natural Resources (DNR) with MnGeo"s support, in collaboration with SME"s from Federal, State and County agencies.<\/p>
Minnesota Elevation Mapping - Lidar Homepage<\/b><\/span> View<\/b><\/a><\/div>
Virtual Raster<\/b><\/span> View<\/b><\/a><\/div>
STAC Browser<\/b><\/span> View<\/b><\/a><\/div>", "serviceItemId": "ab593372b70548b4b974ea1a2bf758c1", "name": "MnTopo/2nd_Generation_Seamless_Lidar_DEM", "description": "

This data is a seamless representation of Lidar derived Digital Elevation Model (DEM) for the state of Minnesota. The data was collected between 2021 and 2023 at Lidar Acquisition Block (LABs) levels or work units within some LABs. Lidar data was collected at work units level where they exist. Please see "Areas Covered" section of https://www.mngeo.state.mn.us/chouse/elevation/lidar_gen2.html for additonal information on LABs and work units.<\/p>
Data collection was guided by the Minnesota Lidar Plan, a collaborative effort led by the Minnesota Geospatial Advisory Council\u2019s 3D Geomatics Committee and the Minnesota Geospatial Information Office (MnGeo), with support from federal partners such as USGS and FEMA. The plan outlines a comprehensive strategy to acquire new, high-resolution lidar data across the state to replace outdated datasets collected over a decade ago. The plan was driven by the need for more accurate elevation data to support a wide range of applications, including hydrologic modeling, infrastructure planning, forest resource assessment, and environmental monitoring. Minnesota\u2019s lidar data collected between 2008 and 2012 (classified as QL3), no longer meets modern standards and fails to reflect significant landscape changes due to natural events and human development. The new data meets or exceeds USGS Quality Level 1 (QL1) standards, offering higher point density and improved accuracy.<\/p>
The seamless 0.5m Lidar DEM is made up of data only final vertical accuracy (FVA) checked Lidar data and organized by standards developed and accepted by Minnesota"s 3D Geomatics Committee. The DEMs received from contractors were blended to remove overlaps that occurred between LABs and in some cases within LABs and reaggregated using GDAL tools and ArcGIS Pro.<\/p>
The creation of this seamless data was led by SMEs from Minnesota"s Department of Natural Resources (DNR) with MnGeo"s support, in collaboration with SME"s from Federal, State and County agencies.<\/p>
Minnesota Elevation Mapping - Lidar Homepage<\/b><\/span> View<\/b><\/a><\/div>
Virtual Raster<\/b><\/span> View<\/b><\/a><\/div>
STAC Browser<\/b><\/span> View<\/b><\/a><\/div>", "extent": { "xmin": 188000, "ymin": 4814000, "xmax": 764000, "ymax": 5474000, "spatialReference": { "wkid": 102384, "latestWkid": 6344, "vcsWkid": 5703, "latestVcsWkid": 5703 } }, "initialExtent": { "xmin": 188000, "ymin": 4814000, "xmax": 764000, "ymax": 5474000, "spatialReference": { "wkid": 102384, "latestWkid": 6344, "vcsWkid": 5703, "latestVcsWkid": 5703 } }, "fullExtent": { "xmin": 188000, "ymin": 4814000, "xmax": 764000, "ymax": 5474000, "spatialReference": { "wkid": 102384, "latestWkid": 6344, "vcsWkid": 5703, "latestVcsWkid": 5703 } }, "sortableFields": "minps,maxps,lowps,highps,centerx,centery,zorder,st_area(shape),st_perimeter(shape)", "heightModelInfo": { "heightModel": "gravity_related_height", "vertCRS": "NAVD_1988", "heightUnit": "meter" }, "bandCount": 1, "pixelType": "F32", "minValues": [ 177.7274169921875 ], "maxValues": [ 700.2840576171875 ], "meanValues": [ 383.07433848029035 ], "stdvValues": [ 69.5118195999736 ], "serviceProperties": "NorthWest<\/MosaicMethod>First<\/MosaicOperator>true<\/SortAscending><\/LockImageID>name<\/TileOrderField>0<\/TileOrderBase>600.000000<\/AvgImageSpacingX>300.000000<\/AvgImageSpacingY>0.0<\/ViewPointX>0.0<\/ViewPointY>0.0<\/ViewPointDefShiftX>0.0<\/ViewPointDefShiftY>LZ77<\/CompressionMethod>75<\/CompressionQuality>0.010000<\/CompressionTolerance>Bilinear<\/SamplingMethod><\/ImageServiceProperties><\/ImageServer>", "allowedFields": "name,minps,maxps,lowps,highps,tag,groupname,productname,centerx,centery,zorder,st_area(shape),st_perimeter(shape)", "hasMultidimensions": false, "pixelSizeX": 0.5, "pixelSizeY": 0.5, "meanPixelSize": 0.5, "datasetFormat": "AMD", "uncompressedSize": 6082560000000, "blockWidth": 2048, "blockHeight": 256, "compressionType": "None", "bandNames": [ "Band_1" ], "allowCopy": true, "allowAnalysis": true, "itemAccess": false, "inspectionCapabilities": "", "minPixelSize": 0, "maxPixelSize": 0, "copyrightText": "", "serviceDataType": "esriImageServiceDataTypeElevation", "serviceSourceType": "esriImageServiceSourceTypeMosaicDataset", "objectIdField": "objectid", "fields": [ { "name": "objectid", "type": "esriFieldTypeOID", "alias": "objectid", "domain": null }, { "name": "name", "type": "esriFieldTypeString", "alias": "name", "domain": null, "length": 200 }, { "name": "minps", "type": "esriFieldTypeDouble", "alias": "minps", "domain": null }, { "name": "maxps", "type": "esriFieldTypeDouble", "alias": "maxps", "domain": null }, { "name": "lowps", "type": "esriFieldTypeDouble", "alias": "lowps", "domain": null }, { "name": "highps", "type": "esriFieldTypeDouble", "alias": "highps", "domain": null }, { "name": "category", "type": "esriFieldTypeInteger", "alias": "category", "domain": { "type": "codedValue", "name": "MosaicCatalogItemCategoryDomain", "description": "Catalog item categories.", "codedValues": [ { "name": "Unknown", "code": 0 }, { "name": "Primary", "code": 1 }, { "name": "Overview", "code": 2 }, { "name": "Unprocessed Overview", "code": 3 }, { "name": "Partial Overview", "code": 4 }, { "name": "Inactive", "code": 5 }, { "name": "Uploaded", "code": 253 }, { "name": "Incomplete", "code": 254 }, { "name": "Custom", "code": 255 } ], "mergePolicy": "esriMPTDefaultValue", "splitPolicy": "esriSPTDefaultValue" } }, { "name": "tag", "type": "esriFieldTypeString", "alias": "tag", "domain": null, "length": 100 }, { "name": "groupname", "type": "esriFieldTypeString", "alias": "groupname", "domain": null, "length": 100 }, { "name": "productname", "type": "esriFieldTypeString", "alias": "productname", "domain": null, "length": 100 }, { "name": "centerx", "type": "esriFieldTypeDouble", "alias": "centerx", "domain": null }, { "name": "centery", "type": "esriFieldTypeDouble", "alias": "centery", "domain": null }, { "name": "zorder", "type": "esriFieldTypeInteger", "alias": "zorder", "domain": null }, { "name": "shape", "type": "esriFieldTypeGeometry", "alias": "shape", "domain": null }, { "name": "st_area(shape)", "type": "esriFieldTypeDouble", "alias": "st_area(shape)", "domain": null }, { "name": "st_perimeter(shape)", "type": "esriFieldTypeDouble", "alias": "st_perimeter(shape)", "domain": null } ], "capabilities": "Catalog,Image,Metadata", "defaultMosaicMethod": "Northwest", "allowedMosaicMethods": "NorthWest,Center,LockRaster,ByAttribute,Nadir,Viewpoint,Seamline,None", "sortField": "", "sortValue": null, "sortAscending": true, "mosaicOperator": "First", "maxDownloadSizeLimit": 2048, "defaultCompressionQuality": 75, "defaultResamplingMethod": "Bilinear", "maxImageHeight": 4100, "maxImageWidth": 15000, "maxRecordCount": 1000, "maxDownloadImageCount": 20, "maxMosaicImageCount": 30, "allowRasterFunction": true, "rasterFunctionInfos": [ { "name": "None", "description": "", "help": "" } ], "rasterTypeInfos": [ { "name": "Raster Dataset", "description": "Supports all ArcGIS Raster Datasets", "help": "" } ], "mensurationCapabilities": "None", "hasHistograms": true, "hasColormap": false, "hasRasterAttributeTable": false, "minScale": 0, "maxScale": 0, "exportTilesAllowed": false, "supportsStatistics": true, "supportsAdvancedQueries": true, "editFieldsInfo": null, "ownershipBasedAccessControlForRasters": null, "allowComputeTiePoints": false, "useStandardizedQueries": true, "advancedQueryCapabilities": { "useStandardizedQueries": true, "supportsStatistics": true, "supportsOrderBy": true, "supportsDistinct": true, "supportsPagination": true }, "spatialReference": { "wkid": 102384, "latestWkid": 6344, "vcsWkid": 5703, "latestVcsWkid": 5703 }, "resampling": false }